BEGIN:VCALENDAR
VERSION:2.0
PRODID:-//ChamberMaster//Event Calendar 2.0//EN
METHOD:PUBLISH
X-PUBLISHED-TTL:P3D
REFRESH-INTERVAL:P3D
CALSCALE:GREGORIAN
BEGIN:VEVENT
DTSTART:20090404T160000Z
DTEND:20090404T180000Z
X-MICROSOFT-CDO-ALLDAYEVENT:FALSE
SUMMARY:Free Shred Day
DESCRIPTION:The Peoples Bank Free Shred Day.  Limit two boxes of shredding per car. Request canned goods to benefit Light Community Outreach Center
X-ALT-DESC;FMTTYPE=text/html:The Peoples Bank Free Shred Day.  Limit two boxes of shredding per car. Request canned goods to benefit Light Community Outreach Center
LOCATION:The Peoples Bank North Broad Branch (beside Ingles and across from The First United Methodist Church in Winder
UID:e.363.2670
SEQUENCE:3
DTSTAMP:20260426T011551Z
URL:https://barrowcm.365dtm.com/events/details/free-shred-day-04-04-2009-2670
END:VEVENT

END:VCALENDAR
