BEGIN:VCALENDAR
VERSION:2.0
PRODID:-//ChamberMaster//Event Calendar 2.0//EN
METHOD:PUBLISH
X-PUBLISHED-TTL:P3D
REFRESH-INTERVAL:P3D
CALSCALE:GREGORIAN
BEGIN:VEVENT
DTSTART:20090418T160000Z
DTEND:20090418T180000Z
X-MICROSOFT-CDO-ALLDAYEVENT:FALSE
SUMMARY:Free Shred Day
DESCRIPTION:It's time for a little spring cleaning.  Bring up to two boxes of personal financial records and watch The Lindsay Group truck shred your: canceled checks\, utility bills\, credit card statements\, pay stubs\, expired insurance policies and more!
X-ALT-DESC;FMTTYPE=text/html:It's time for a little spring cleaning.  Bring up to two boxes of personal financial records and watch The Lindsay Group truck shred your: canceled checks\, utility bills\, credit card statements\, pay stubs\, expired insurance policies and more!
LOCATION:279 N. Broad Street\, Winder
UID:e.363.2679
SEQUENCE:3
DTSTAMP:20260426T011551Z
URL:https://barrowcm.365dtm.com/events/details/free-shred-day-04-18-2009-2679
END:VEVENT

END:VCALENDAR
