BEGIN:VCALENDAR
VERSION:2.0
PRODID:-//ChamberMaster//Event Calendar 2.0//EN
METHOD:PUBLISH
X-PUBLISHED-TTL:P3D
REFRESH-INTERVAL:P3D
CALSCALE:GREGORIAN
BEGIN:VEVENT
DTSTART:20130914T140000Z
DTEND:20130914T210000Z
X-MICROSOFT-CDO-ALLDAYEVENT:FALSE
SUMMARY:Friends of the Winder Public Library Booth @ Jug Tavern Festival
DESCRIPTION:Great prices on new and gently used books.  Sampling of the books available at the Friends of the Winder Public Library Annual Book Sale to take place Oct. 3rd\, 4th\, 5th and 7th\, 2013.\n\n Books\; CDs\, Videos\, Books on Tape\; childrens' and teens' books.\n\nHard cvr: $1.00 - $2.00\; trade paperbacks: $1.00\; all other paperbacks: $.50\; childrens' books: (5) for $1.00
X-ALT-DESC;FMTTYPE=text/html:Great prices on new and gently used books.&nbsp\; Sampling of the books available at the Friends of the Winder Public Library Annual Book Sale to take place Oct. 3rd\, 4th\, 5th and 7th\, 2013.<br />\n&nbsp\;Books\; CDs\, Videos\, Books on Tape\; childrens&#39\; and teens&#39\; books.<br />\nHard cvr: $1.00 - $2.00\; trade paperbacks: $1.00\; all other paperbacks: $.50\; childrens&#39\; books: (5) for $1.00
LOCATION:113 E. Athens St.\, Winder GA 30680 at the Fairgrounds
UID:e.363.5138
SEQUENCE:3
DTSTAMP:20260422T174857Z
URL:https://barrowcm.365dtm.com/events/details/friends-of-the-winder-public-library-booth-jug-tavern-festival-09-14-2013-5138
END:VEVENT

END:VCALENDAR
