BEGIN:VCALENDAR
VERSION:2.0
PRODID:-//ChamberMaster//Event Calendar 2.0//EN
METHOD:PUBLISH
X-PUBLISHED-TTL:P3D
REFRESH-INTERVAL:P3D
CALSCALE:GREGORIAN
BEGIN:VEVENT
DTSTART:20140602T120000Z
DTEND:20140604T140000Z
X-MICROSOFT-CDO-ALLDAYEVENT:FALSE
SUMMARY:Future Bulldogg Camp
DESCRIPTION:For rising 2nd-8th graders
X-ALT-DESC;FMTTYPE=text/html:For rising 2nd-8th graders
LOCATION:WBHS:W Claire Harris Stadium
UID:e.363.5415
SEQUENCE:3
DTSTAMP:20260422T002631Z
URL:https://barrowcm.365dtm.com/events/details/future-bulldogg-camp-06-02-2014-5415
END:VEVENT

END:VCALENDAR
