BEGIN:VCALENDAR
VERSION:2.0
PRODID:-//ChamberMaster//Event Calendar 2.0//EN
METHOD:PUBLISH
X-PUBLISHED-TTL:P3D
REFRESH-INTERVAL:P3D
CALSCALE:GREGORIAN
BEGIN:VEVENT
DTSTART:20140609T123000Z
DTEND:20140612T153000Z
X-MICROSOFT-CDO-ALLDAYEVENT:FALSE
SUMMARY:Future HoopDogg Camp
DESCRIPTION:For rising 2nd-8th grades
X-ALT-DESC;FMTTYPE=text/html:For rising 2nd-8th grades
LOCATION:Harrison Activity Building (WBHS gym)
UID:e.363.5416
SEQUENCE:3
DTSTAMP:20260422T002648Z
URL:https://barrowcm.365dtm.com/events/details/future-hoopdogg-camp-06-09-2014-5416
END:VEVENT

END:VCALENDAR
