BEGIN:VCALENDAR
VERSION:2.0
PRODID:-//ChamberMaster//Event Calendar 2.0//EN
METHOD:PUBLISH
X-PUBLISHED-TTL:P3D
REFRESH-INTERVAL:P3D
CALSCALE:GREGORIAN
BEGIN:VEVENT
DTSTART;VALUE=DATE:20120414
DTEND;VALUE=DATE:20120415
TRANSP:TRANSPARENT
X-MICROSOFT-CDO-ALLDAYEVENT:TRUE
SUMMARY:Georgia Piedmont Arts Center's Spring Phling
DESCRIPTION:Georgia Piedmont Arts Centers Spring Phling
X-ALT-DESC;FMTTYPE=text/html:Georgia Piedmont Arts Centers Spring&nbsp\;Phling
LOCATION:Auburn
UID:e.363.4241
SEQUENCE:3
DTSTAMP:20260423T193838Z
URL:https://barrowcm.365dtm.com/events/details/georgia-piedmont-arts-center-s-spring-phling-04-14-2012-4241
END:VEVENT

END:VCALENDAR
