BEGIN:VCALENDAR
VERSION:2.0
PRODID:-//ChamberMaster//Event Calendar 2.0//EN
METHOD:PUBLISH
X-PUBLISHED-TTL:P3D
REFRESH-INTERVAL:P3D
CALSCALE:GREGORIAN
BEGIN:VEVENT
DTSTART:20090324T230000Z
DTEND:20090325T003000Z
X-MICROSOFT-CDO-ALLDAYEVENT:FALSE
SUMMARY:Get Financially Fit
DESCRIPTION:Get Financially Fit\nMarch 24\, 2009\n\nHosted By YMCA of Winder\nPresented by\nStrategic Path Planning\, Inc.\n\nNearly 70% of all consumers live from paycheck to paycheck. Now is the time to break that cycle. Get control of your finances and work to become debt free.\n\nJoin us to:\n\n   Discover the difference between struggling financially and being financially successful.\n\n   Get a handle on your finances. Where are you now? Where do you want to go? How do you get there?\n\n   Learn how to stay financially on track for the whole year.\n\n   Learn how to become debt free.\n\n   Learn how to spend your money on purpose.\n\nThe personal benefits will be life changing.\nLEARN HOW TO MANAGE YOUR MONEY & ELIMATE DEBT!\n\nRegister at the YMCA by March 21\, 2009\n770-868-2917
X-ALT-DESC;FMTTYPE=text/html:Get Financially Fit\nMarch 24\, 2009\n\nHosted By YMCA of Winder\nPresented by\nStrategic Path Planning\, Inc.\n\nNearly 70% of all consumers live from paycheck to paycheck. Now is the time to break that cycle. Get control of your finances and work to become debt free.\n\nJoin us to:\n\n   Discover the difference between struggling financially and being financially successful.\n\n   Get a handle on your finances. Where are you now? Where do you want to go? How do you get there?\n\n   Learn how to stay financially on track for the whole year.\n\n   Learn how to become debt free.\n\n   Learn how to spend your money on purpose.\n\nThe personal benefits will be life changing.\nLEARN HOW TO MANAGE YOUR MONEY & ELIMATE DEBT!\n\nRegister at the YMCA by March 21\, 2009\n770-868-2917
LOCATION:YMCA 50 Brad Akins Dr Winder\, GA
UID:e.363.2660
SEQUENCE:3
DTSTAMP:20260426T024218Z
URL:https://barrowcm.365dtm.com/events/details/get-financially-fit-03-24-2009-2660
END:VEVENT

END:VCALENDAR
