BEGIN:VCALENDAR
VERSION:2.0
PRODID:-//ChamberMaster//Event Calendar 2.0//EN
METHOD:PUBLISH
X-PUBLISHED-TTL:P3D
REFRESH-INTERVAL:P3D
CALSCALE:GREGORIAN
BEGIN:VEVENT
DTSTART:20110710T170000Z
DTEND:20110710T210000Z
X-MICROSOFT-CDO-ALLDAYEVENT:FALSE
SUMMARY:GHA Farmers' Market
DESCRIPTION:We are a group of small farms\, local artisans\, local businesses and gardeners located around Hoschton\, Georgia. We are dedicated to the principles of all natural\, sustainable\, organic\, locally made and produced. We have a wide variety of freshly picked\, seasonal fruits and vegetables available\, as well as items such as milk\, free range eggs\, fresh baked bread\, gourmet jellies\, handmade biscotti\, fresh cheeses\, grass fed beef and pork\, cake pops and truffles\, fudge\, hydroponic lettuce\, yogurt\, local honey\, and more. In addition to food products\, we also feature vendors that handcraft all natural soaps\, oil\, lotions\, and candles. Chef Lisa Slater (who is also the market manager) will be on site preparing dishes made from local meats\, vegetables\, cheeses\, and more. Plates are available for purchase for $3.00\, and drinks are available for $1.00. GHA Farmers' Market is held weekly at Gilliland's Heritage Alpaca Farm. For $5.00 per person\, tours are available for you to learn all about the alpacas and even give you the opportunity to feed and pet them if you wish!
X-ALT-DESC;FMTTYPE=text/html:<span class="Apple-style-span" style="color: rgb(85\, 85\, 85)\; font-family: Verdana\, sans-serif\; font-size: 11px\; ">We are a group of small farms\, local artisans\, local businesses and gardeners located around Hoschton\, Georgia. We are dedicated to the principles of all natural\, sustainable\, organic\, locally made and produced. We have a wide variety of freshly picked\, seasonal fruits and vegetables available\, as well as items such as milk\, free range eggs\, fresh baked bread\, gourmet jellies\, handmade biscotti\, fresh cheeses\, grass fed beef and pork\, cake pops and truffles\, fudge\, hydroponic lettuce\, yogurt\, local honey\, and more. In addition to food products\, we also feature vendors that handcraft all natural soaps\, oil\, lotions\, and candles. Chef Lisa Slater (who is also the market manager) will be on site preparing dishes made from local meats\, vegetables\, cheeses\, and more. Plates are available for purchase for $3.00\, and drinks are available for $1.00. GHA Farmers&#39\; Market is held weekly at Gilliland&#39\;s Heritage Alpaca Farm. For $5.00 per person\, tours are available for you to learn all about the alpacas and even give you the opportunity to feed and pet them if you wish!</span>
LOCATION:Gilliland's Heritage Alpacas 1587 Dee Kennedy Road Hoschton\, GA 30548
UID:e.363.4056
SEQUENCE:3
DTSTAMP:20260424T080645Z
URL:https://barrowcm.365dtm.com/events/details/gha-farmers-market-07-10-2011-4056
END:VEVENT

END:VCALENDAR
