BEGIN:VCALENDAR
VERSION:2.0
PRODID:-//ChamberMaster//Event Calendar 2.0//EN
METHOD:PUBLISH
X-PUBLISHED-TTL:P3D
REFRESH-INTERVAL:P3D
CALSCALE:GREGORIAN
BEGIN:VEVENT
DTSTART:20140610T140000Z
DTEND:20140610T200000Z
X-MICROSOFT-CDO-ALLDAYEVENT:FALSE
SUMMARY:Golf Tournament Barrow County Chamber
DESCRIPTION:Chamber Golf Tournament at the Legends
X-ALT-DESC;FMTTYPE=text/html:Chamber Golf Tournament at the Legends
LOCATION:
UID:e.363.5418
SEQUENCE:3
DTSTAMP:20260422T002837Z
URL:https://barrowcm.365dtm.com/events/details/golf-tournament-barrow-county-chamber-06-10-2014-5418
END:VEVENT

END:VCALENDAR
