BEGIN:VCALENDAR
VERSION:2.0
PRODID:-//ChamberMaster//Event Calendar 2.0//EN
METHOD:PUBLISH
X-PUBLISHED-TTL:P3D
REFRESH-INTERVAL:P3D
CALSCALE:GREGORIAN
BEGIN:VEVENT
DTSTART:20100722T130000Z
DTEND:20100722T133000Z
X-MICROSOFT-CDO-ALLDAYEVENT:FALSE
SUMMARY:Goody's Ribbon Cutting
DESCRIPTION:Peebles is changing to Goody's\n\nGoody's Grand Opening
X-ALT-DESC;FMTTYPE=text/html:Peebles is changing to Goody's\n<br>Goody's Grand Opening\n<br>
LOCATION:17 Monroe Hwy
UID:e.363.3568
SEQUENCE:3
DTSTAMP:20260425T015150Z
URL:https://barrowcm.365dtm.com/events/details/goody-s-ribbon-cutting-07-22-2010-3568
END:VEVENT

END:VCALENDAR
