BEGIN:VCALENDAR
VERSION:2.0
PRODID:-//ChamberMaster//Event Calendar 2.0//EN
METHOD:PUBLISH
X-PUBLISHED-TTL:P3D
REFRESH-INTERVAL:P3D
CALSCALE:GREGORIAN
BEGIN:VEVENT
DTSTART:20120521T120000Z
DTEND:20120521T130000Z
X-MICROSOFT-CDO-ALLDAYEVENT:FALSE
SUMMARY:Govenmental Affairs Meeting
DESCRIPTION:Governmental Affairs Meeting
X-ALT-DESC;FMTTYPE=text/html:Governmental Affairs Meeting
LOCATION:Chamber Office
UID:e.363.4257
SEQUENCE:3
DTSTAMP:20260423T181127Z
URL:https://barrowcm.365dtm.com/events/details/govenmental-affairs-meeting-05-21-2012-4257
END:VEVENT

END:VCALENDAR
