BEGIN:VCALENDAR
VERSION:2.0
PRODID:-//ChamberMaster//Event Calendar 2.0//EN
METHOD:PUBLISH
X-PUBLISHED-TTL:P3D
REFRESH-INTERVAL:P3D
CALSCALE:GREGORIAN
BEGIN:VEVENT
DTSTART:20120227T130000Z
DTEND:20120227T200000Z
X-MICROSOFT-CDO-ALLDAYEVENT:FALSE
SUMMARY:Governmental Affair - Barrow County Day
DESCRIPTION:Barrow County Day at the Capitol
X-ALT-DESC;FMTTYPE=text/html:Barrow County Day at the Capitol
LOCATION:Capitol - Downtown Atlanta
UID:e.363.4221
SEQUENCE:3
DTSTAMP:20260423T222420Z
URL:https://barrowcm.365dtm.com/events/details/governmental-affair-barrow-county-day-02-27-2012-4221
END:VEVENT

END:VCALENDAR
