BEGIN:VCALENDAR
VERSION:2.0
PRODID:-//ChamberMaster//Event Calendar 2.0//EN
METHOD:PUBLISH
X-PUBLISHED-TTL:P3D
REFRESH-INTERVAL:P3D
CALSCALE:GREGORIAN
BEGIN:VEVENT
DTSTART:20130410T120000Z
DTEND:20130410T130000Z
X-MICROSOFT-CDO-ALLDAYEVENT:FALSE
SUMMARY:Governmental Affairs
DESCRIPTION:Governmental Affairs
X-ALT-DESC;FMTTYPE=text/html:Governmental Affairs
LOCATION:Chamber Office
UID:e.363.4862
SEQUENCE:3
DTSTAMP:20260423T005228Z
URL:https://barrowcm.365dtm.com/events/details/governmental-affairs-04-10-2013-4862
END:VEVENT

END:VCALENDAR
