BEGIN:VCALENDAR
VERSION:2.0
PRODID:-//ChamberMaster//Event Calendar 2.0//EN
METHOD:PUBLISH
X-PUBLISHED-TTL:P3D
REFRESH-INTERVAL:P3D
CALSCALE:GREGORIAN
BEGIN:VEVENT
DTSTART:20100715T223000Z
DTEND:20100716T003000Z
X-MICROSOFT-CDO-ALLDAYEVENT:FALSE
SUMMARY:Governmental Affairs Forum
DESCRIPTION:Canidate Forum for County Commissioners presented by Barrow County Chamber of Commerce Governmental Affairs
X-ALT-DESC;FMTTYPE=text/html:<div>Canidate Forum for County Commissioners presented by Barrow County Chamber of Commerce Governmental Affairs</div>
LOCATION:Coleen Williams Theatre\, Athens Street\, Winder
UID:e.363.3562
SEQUENCE:3
DTSTAMP:20260425T020216Z
URL:https://barrowcm.365dtm.com/events/details/governmental-affairs-forum-07-15-2010-3562
END:VEVENT

END:VCALENDAR
