BEGIN:VCALENDAR
VERSION:2.0
PRODID:-//ChamberMaster//Event Calendar 2.0//EN
METHOD:PUBLISH
X-PUBLISHED-TTL:P3D
REFRESH-INTERVAL:P3D
CALSCALE:GREGORIAN
BEGIN:VEVENT
DTSTART;VALUE=DATE:20130109
DTEND;VALUE=DATE:20130110
TRANSP:TRANSPARENT
X-MICROSOFT-CDO-ALLDAYEVENT:TRUE
SUMMARY:Governmental Affairs Meeting
DESCRIPTION:Governmental Affairs Meeting
X-ALT-DESC;FMTTYPE=text/html:Governmental Affairs Meeting
LOCATION:Chamber Office
UID:e.363.4803
SEQUENCE:3
DTSTAMP:20260423T053856Z
URL:https://barrowcm.365dtm.com/events/details/governmental-affairs-meeting-01-09-2013-4803
END:VEVENT

END:VCALENDAR
