BEGIN:VCALENDAR
VERSION:2.0
PRODID:-//ChamberMaster//Event Calendar 2.0//EN
METHOD:PUBLISH
X-PUBLISHED-TTL:P3D
REFRESH-INTERVAL:P3D
CALSCALE:GREGORIAN
BEGIN:VEVENT
DTSTART:20121004T120000Z
DTEND:20121004T130000Z
X-MICROSOFT-CDO-ALLDAYEVENT:FALSE
SUMMARY:Governmental Affairs Meeting
DESCRIPTION:Governmental Affairs Committee
X-ALT-DESC;FMTTYPE=text/html:Governmental Affairs Committee
LOCATION:Chamber Office
UID:e.363.4567
SEQUENCE:3
DTSTAMP:20260423T101634Z
URL:https://barrowcm.365dtm.com/events/details/governmental-affairs-meeting-10-04-2012-4567
END:VEVENT

END:VCALENDAR
