BEGIN:VCALENDAR
VERSION:2.0
PRODID:-//ChamberMaster//Event Calendar 2.0//EN
METHOD:PUBLISH
X-PUBLISHED-TTL:P3D
REFRESH-INTERVAL:P3D
CALSCALE:GREGORIAN
BEGIN:VEVENT
DTSTART:20130508T120000Z
DTEND:20130508T130000Z
X-MICROSOFT-CDO-ALLDAYEVENT:FALSE
SUMMARY:Governmental Affiars
DESCRIPTION:
X-ALT-DESC;FMTTYPE=text/html:
LOCATION:
UID:e.363.4884
SEQUENCE:3
DTSTAMP:20260422T233023Z
URL:https://barrowcm.365dtm.com/events/details/governmental-affiars-05-08-2013-4884
END:VEVENT

END:VCALENDAR
