BEGIN:VCALENDAR
VERSION:2.0
PRODID:-//ChamberMaster//Event Calendar 2.0//EN
METHOD:PUBLISH
X-PUBLISHED-TTL:P3D
REFRESH-INTERVAL:P3D
CALSCALE:GREGORIAN
BEGIN:VEVENT
DTSTART:20090417T120000Z
DTEND:20090418T210000Z
X-MICROSOFT-CDO-ALLDAYEVENT:FALSE
SUMMARY:Great American Clean-Up
DESCRIPTION:The City of Auburn Will Collect\n Tires ? (Disposal cost per tire required by law)\n$2.00?Small or regular Tires\n$5.00? with rim\n$10.00? Large Tires\n\n NO CHARGE FOR:\nBatteries\nMotor Oil\nScrap Metal\nElectronics\nCell Phones\nInk Cartridges\nJunk\nBring those old TV sets\, we?ll recycle them.\n\n\n WE CANNOT ACCEPT:  \nPaint of Any Type\nAntifreeze\nPaint Thinner\nCooking Oil\n \nContainers will be set up next \nto City Hall
X-ALT-DESC;FMTTYPE=text/html:The City of Auburn Will Collect\n Tires ? (Disposal cost per tire required by law)\n$2.00?Small or regular Tires\n$5.00? with rim\n$10.00? Large Tires\n\n NO CHARGE FOR:\nBatteries\nMotor Oil\nScrap Metal\nElectronics\nCell Phones\nInk Cartridges\nJunk\nBring those old TV sets\, we?ll recycle them.\n\n\n WE CANNOT ACCEPT:  \nPaint of Any Type\nAntifreeze\nPaint Thinner\nCooking Oil\n \nContainers will be set up next \nto City Hall\n
LOCATION:Downtown Auburn - next to City Hall
UID:e.363.2673
SEQUENCE:3
DTSTAMP:20260426T011725Z
URL:https://barrowcm.365dtm.com/events/details/great-american-clean-up-04-17-2009-2673
END:VEVENT

END:VCALENDAR
