BEGIN:VCALENDAR
VERSION:2.0
PRODID:-//ChamberMaster//Event Calendar 2.0//EN
METHOD:PUBLISH
X-PUBLISHED-TTL:P3D
REFRESH-INTERVAL:P3D
CALSCALE:GREGORIAN
BEGIN:VEVENT
DTSTART;VALUE=DATE:20091023
DTEND;VALUE=DATE:20091025
TRANSP:TRANSPARENT
X-MICROSOFT-CDO-ALLDAYEVENT:TRUE
SUMMARY:Great American Clean-Up
DESCRIPTION:GREAT AMERICAN CLEAN ? UP\n\nFriday & Saturday ? October 23rd & 24th  ? 8:00 a.m. ? 5:00 p.m.\n\nWe will collect:\n\nTires ? (A cost of $2.00 - $5.00 per tire (depending on size)\nNO CHARGE FOR:\nBatteries \nMotor Oil\nScrap Metal\nElectronics\nJunk\n\nWE CANNOT ACCEPT:  \nPaint of Any Type\nPaint Thinner\nAntifreeze\nCooking Oil\n\n\nContainers will be set up next to City Hall in Auburn\n\nCall 770-963-4002 x 223 for more information
X-ALT-DESC;FMTTYPE=text/html:GREAT AMERICAN CLEAN ? UP\n\nFriday & Saturday ? October 23rd & 24th  ? 8:00 a.m. ? 5:00 p.m.\n\nWe will collect:\n\nTires ? (A cost of $2.00 - $5.00 per tire (depending on size)\nNO CHARGE FOR:\nBatteries \nMotor Oil\nScrap Metal\nElectronics\nJunk\n\nWE CANNOT ACCEPT:  \nPaint of Any Type\nPaint Thinner\nAntifreeze\nCooking Oil\n\n\nContainers will be set up next to City Hall in Auburn\n\nCall 770-963-4002 x 223 for more information\n
LOCATION:Downtown Auburn 1369 Fourth Avenue
UID:e.363.3034
SEQUENCE:3
DTSTAMP:20260425T152940Z
URL:https://barrowcm.365dtm.com/events/details/great-american-clean-up-10-23-2009-3034
END:VEVENT

END:VCALENDAR
