BEGIN:VCALENDAR
VERSION:2.0
PRODID:-//ChamberMaster//Event Calendar 2.0//EN
METHOD:PUBLISH
X-PUBLISHED-TTL:P3D
REFRESH-INTERVAL:P3D
CALSCALE:GREGORIAN
BEGIN:VEVENT
DTSTART:20130427T150000Z
DTEND:20130427T180000Z
X-MICROSOFT-CDO-ALLDAYEVENT:FALSE
SUMMARY:Great American Picnic and Longaberger Market
DESCRIPTION:Community picnic event\, hosted by local Independent Longaberger  Consultants\, to help raise donations\, for The Charlie Norwood VAMC Fisher House\, here in Georgia. We would love for you to join us! Donations will be accepted and you'll have the opportunity to not only support Fisher House\, but\, also see beautifully\, hand-crafted\, hardwood\, maple baskets made right here in the USA!\n\n	\n\n	Bring friends and your own picnic goodies. Relax\, shop and enjoy a good\, old-fashioned community picnic with friends. There'll be live music\, cooking demos\, prizes and more. Food will also be available for purchase.\n\n	\n\n	To further encourage your support\, of Fisher House\, one\, lucky\, donor\, will take home a beautiful\, Longaberger  Great American Picnic Celebration Basket!
X-ALT-DESC;FMTTYPE=text/html:<p class="MsoNormal" style="margin: 0in 0in 10pt">\n	<span style="font-family: 'Arial'\, 'sans-serif'"><font size="3"><font color="#000000"><font face="Arial">Community picnic event\, hosted by l<span style="font-family: 'Arial'\, 'sans-serif'"><font size="3"><font color="#000000"><font face="Arial">ocal Independent Longaberger&reg\; Consultants\,&nbsp\;</font></font></font></span>to help raise donations\, for The Charlie Norwood VAMC Fisher House\, here in Georgia. We would love for you to join us! Donations will be accepted and you&rsquo\;ll have the opportunity to not only support Fisher House\, but\, also see beautifully\, hand-crafted\, hardwood\, maple baskets made right here in the USA!<br />\n	<br />\n	Bring friends and your own picnic goodies. Relax\, shop and enjoy a good\, old-fashioned community picnic with friends. There&#39\;ll be live music\, cooking demos\, prizes and more. Food will also be available for purchase.<br />\n	<br />\n	To further encourage your support\, of Fisher House\, one\, lucky\, donor\, will take home&nbsp\;a beautiful\, Longaberger&reg\; Great American Picnic Celebration Basket! </font></font></font></span></p>\n
LOCATION:Winder Picnic Pavilion\, 113 E. Athens Street\, Winder GA
UID:e.363.4854
SEQUENCE:3
DTSTAMP:20260423T011746Z
URL:https://barrowcm.365dtm.com/events/details/great-american-picnic-and-longaberger-market-04-27-2013-4854
END:VEVENT

END:VCALENDAR
