BEGIN:VCALENDAR
VERSION:2.0
PRODID:-//ChamberMaster//Event Calendar 2.0//EN
METHOD:PUBLISH
X-PUBLISHED-TTL:P3D
REFRESH-INTERVAL:P3D
CALSCALE:GREGORIAN
BEGIN:VEVENT
DTSTART:20091205T180000Z
DTEND:20091205T230000Z
X-MICROSOFT-CDO-ALLDAYEVENT:FALSE
SUMMARY:Green-Gala/Expo
DESCRIPTION:Please Join Us For The GREEN GALA~EXPO\n Art Auction/Holiday Shopping Extravaganza~Fundraiser\n On Sat. Dec. 5\, 2009  (1 pm -6pm) & \nSun. Dec. 6\, 2009 (1pm-5pm)\nLunch Buffet & Beverages Will Be Served\nKeynote Guest Speaker\nMrs. Brooke Nebel**Advocate For The New GREEN ECONOMY\nSPEAKER/VENDOR/EXHIBITOR SPACE AVAILABLE CONTACT \nANDREA B. @678-768-6481 *For Advertising Info: Please VIsit***WWW.GREENPRENEURSMAG.COM\n10% Of All Proceeds Will Be Donated To The North Gwinnett Cooperative Program\nThank You To Everyone For Your Support.\n\n\n\n     Advance Tickets $10.00 Per Person/$15.00 pp-At The Door         \nENTER OUR HOLIDAY RAFFLE DRAW FOR $100
X-ALT-DESC;FMTTYPE=text/html:Please Join Us For The GREEN GALA~EXPO\n Art Auction/Holiday Shopping Extravaganza~Fundraiser\n On Sat. Dec. 5\, 2009  (1 pm -6pm) & \nSun. Dec. 6\, 2009 (1pm-5pm)\nLunch Buffet & Beverages Will Be Served\nKeynote Guest Speaker\nMrs. Brooke Nebel**Advocate For The New GREEN ECONOMY\nSPEAKER/VENDOR/EXHIBITOR SPACE AVAILABLE CONTACT \nANDREA B. @678-768-6481 *For Advertising Info: Please VIsit***WWW.GREENPRENEURSMAG.COM\n10% Of All Proceeds Will Be Donated To The North Gwinnett Cooperative Program\nThank You To Everyone For Your Support.\n\n\n\n     Advance Tickets $10.00 Per Person/$15.00 pp-At The Door         \nENTER OUR HOLIDAY RAFFLE DRAW FOR $100\n
LOCATION:Country Inn Suites By Carlson
UID:e.363.3066
SEQUENCE:3
DTSTAMP:20260425T122023Z
URL:https://barrowcm.365dtm.com/events/details/green-gala-expo-12-05-2009-3066
END:VEVENT

END:VCALENDAR
