BEGIN:VCALENDAR
VERSION:2.0
PRODID:-//ChamberMaster//Event Calendar 2.0//EN
METHOD:PUBLISH
X-PUBLISHED-TTL:P3D
REFRESH-INTERVAL:P3D
CALSCALE:GREGORIAN
BEGIN:VEVENT
DTSTART:20091107T180000Z
DTEND:20091107T230000Z
X-MICROSOFT-CDO-ALLDAYEVENT:FALSE
SUMMARY:Green Gala/Expo-Silent Art Auction~Holiday Shopping Extravaganza
DESCRIPTION:
X-ALT-DESC;FMTTYPE=text/html:
LOCATION:Country Inn Suites By Carlson\, Braselton\, Georgia
UID:e.363.3058
SEQUENCE:3
DTSTAMP:20260425T134702Z
URL:https://barrowcm.365dtm.com/events/details/green-gala-expo-silent-art-auction-holiday-shopping-extravaganza-11-07-2009-3058
END:VEVENT

END:VCALENDAR
