BEGIN:VCALENDAR
VERSION:2.0
PRODID:-//ChamberMaster//Event Calendar 2.0//EN
METHOD:PUBLISH
X-PUBLISHED-TTL:P3D
REFRESH-INTERVAL:P3D
CALSCALE:GREGORIAN
BEGIN:VEVENT
DTSTART:20120505T130000Z
DTEND:20120505T190000Z
X-MICROSOFT-CDO-ALLDAYEVENT:FALSE
SUMMARY:Habitat for Humanity Poker Run
DESCRIPTION:Poker Run go to www.BarrowHabitat.org for more information\n\nAll motorcycles and vehicles are welcome
X-ALT-DESC;FMTTYPE=text/html:Poker Run&nbsp\;go to <a href="http://www.BarrowHabitat.org">www.BarrowHabitat.org</a>&nbsp\;for more information<br />\nAll motorcycles and&nbsp\;vehicles are&nbsp\;welcome
LOCATION:Registration starts at 9 am and kickstands up at 11:00 am. 189 West Athens Street Holly Hill Plaza\, Winder\, Ga 30680
UID:e.363.4251
SEQUENCE:3
DTSTAMP:20260423T181112Z
URL:https://barrowcm.365dtm.com/events/details/habitat-for-humanity-poker-run-05-05-2012-4251
END:VEVENT

END:VCALENDAR
