BEGIN:VCALENDAR
VERSION:2.0
PRODID:-//ChamberMaster//Event Calendar 2.0//EN
METHOD:PUBLISH
X-PUBLISHED-TTL:P3D
REFRESH-INTERVAL:P3D
CALSCALE:GREGORIAN
BEGIN:VEVENT
DTSTART:20160818T150000Z
DTEND:20160818T190000Z
X-MICROSOFT-CDO-ALLDAYEVENT:FALSE
SUMMARY:Health and Wellness EXPO
DESCRIPTION:Health and Wellnes EXPO\n\nand Taste of Barrow
X-ALT-DESC;FMTTYPE=text/html:Health and Wellnes EXPO<br />\nand Taste of Barrow
LOCATION:YMCA
UID:e.363.5883
SEQUENCE:3
DTSTAMP:20260420T083107Z
URL:https://barrowcm.365dtm.com/events/details/health-and-wellness-expo-08-18-2016-5883
END:VEVENT

END:VCALENDAR
