BEGIN:VCALENDAR
VERSION:2.0
PRODID:-//ChamberMaster//Event Calendar 2.0//EN
METHOD:PUBLISH
X-PUBLISHED-TTL:P3D
REFRESH-INTERVAL:P3D
CALSCALE:GREGORIAN
BEGIN:VEVENT
DTSTART:20130323T120000Z
DTEND:20130323T120000Z
X-MICROSOFT-CDO-ALLDAYEVENT:FALSE
SUMMARY:Heel the Soul Walk- Benefiting Peace Place
DESCRIPTION:
X-ALT-DESC;FMTTYPE=text/html:
LOCATION:
UID:e.363.4842
SEQUENCE:3
DTSTAMP:20260423T023255Z
URL:https://barrowcm.365dtm.com/events/details/heel-the-soul-walk-benefiting-peace-place-03-23-2013-4842
END:VEVENT

END:VCALENDAR
