BEGIN:VCALENDAR
VERSION:2.0
PRODID:-//ChamberMaster//Event Calendar 2.0//EN
METHOD:PUBLISH
X-PUBLISHED-TTL:P3D
REFRESH-INTERVAL:P3D
CALSCALE:GREGORIAN
BEGIN:VEVENT
DTSTART;VALUE=DATE:20110924
DTEND;VALUE=DATE:20110925
TRANSP:TRANSPARENT
X-MICROSOFT-CDO-ALLDAYEVENT:TRUE
SUMMARY:Heritage Day.....remembering A Call to Arms
DESCRIPTION:
X-ALT-DESC;FMTTYPE=text/html:
LOCATION:William Harris Homestead 3636 Ga. Hwy. 11\, Monroe\, Ga. (3.2 miles from 316 at Barrow-Walton County line
UID:e.363.4076
SEQUENCE:3
DTSTAMP:20260424T053959Z
URL:https://barrowcm.365dtm.com/events/details/heritage-day-remembering-a-call-to-arms-09-24-2011-4076
END:VEVENT

END:VCALENDAR
