BEGIN:VCALENDAR
VERSION:2.0
PRODID:-//ChamberMaster//Event Calendar 2.0//EN
METHOD:PUBLISH
X-PUBLISHED-TTL:P3D
REFRESH-INTERVAL:P3D
CALSCALE:GREGORIAN
BEGIN:VEVENT
DTSTART:20091022T140000Z
DTEND:20091022T150000Z
X-MICROSOFT-CDO-ALLDAYEVENT:FALSE
SUMMARY:Holiday Connection Planning Meeting
DESCRIPTION:Holiday Connection is the county wide clearinghouse for holiday assistance. We serve all families in need during the holiday season so all children have toys. This event requires a lot of volunteers\, coordination\, and donation of money and new toys. Please help us come out and plan! Or come just to see how it all works! Or call for more infomration about how you can help!
X-ALT-DESC;FMTTYPE=text/html:Holiday Connection is the county wide clearinghouse for holiday assistance. We serve all families in need during the holiday season so all children have toys. This event requires a lot of volunteers\, coordination\, and donation of money and new toys. Please help us come out and plan! Or come just to see how it all works! Or call for more infomration about how you can help!
LOCATION:Smith Heights\, Barrow County Family Connection/Communities In Schools Office\, 34 Village Court\, #147\, Winder\, off S. Jackson St across from Hope Spivey Gym
UID:e.363.3053
SEQUENCE:3
DTSTAMP:20260425T153151Z
URL:https://barrowcm.365dtm.com/events/details/holiday-connection-planning-meeting-10-22-2009-3053
END:VEVENT

END:VCALENDAR
