BEGIN:VCALENDAR
VERSION:2.0
PRODID:-//ChamberMaster//Event Calendar 2.0//EN
METHOD:PUBLISH
X-PUBLISHED-TTL:P3D
REFRESH-INTERVAL:P3D
CALSCALE:GREGORIAN
BEGIN:VEVENT
DTSTART;VALUE=DATE:20091215
DTEND;VALUE=DATE:20091218
TRANSP:TRANSPARENT
X-MICROSOFT-CDO-ALLDAYEVENT:TRUE
SUMMARY:HOLIDAY CONNECTION STORE
DESCRIPTION:Holiday Connection is the county-wide clearing house for holiday assistance. We collaborate with the schools\, churches\, agencies and community members to make suer all children in need have presents during the holidays\, that services are spread evenly\, and that resources (donations of money and toys) are used responsibly.\n\nThere are many ways you can be involved--volunteering\, raising money\, donating money or toys\, and much more! We even need donations of food to feed our volunteers! Please call if you want to find out how you can help more.
X-ALT-DESC;FMTTYPE=text/html:Holiday Connection is the county-wide clearing house for holiday assistance. We collaborate with the schools\, churches\, agencies and community members to make suer all children in need have presents during the holidays\, that services are spread evenly\, and that resources (donations of money and toys) are used responsibly.\n\nThere are many ways you can be involved--volunteering\, raising money\, donating money or toys\, and much more! We even need donations of food to feed our volunteers! Please call if you want to find out how you can help more.
LOCATION:TBA
UID:e.363.3055
SEQUENCE:3
DTSTAMP:20260425T120815Z
URL:https://barrowcm.365dtm.com/events/details/holiday-connection-store-12-15-2009-3055
END:VEVENT

END:VCALENDAR
