BEGIN:VCALENDAR
VERSION:2.0
PRODID:-//ChamberMaster//Event Calendar 2.0//EN
METHOD:PUBLISH
X-PUBLISHED-TTL:P3D
REFRESH-INTERVAL:P3D
CALSCALE:GREGORIAN
BEGIN:VEVENT
DTSTART:20131207T160000Z
DTEND:20131207T200000Z
X-MICROSOFT-CDO-ALLDAYEVENT:FALSE
SUMMARY:Holiday Extravaganza
DESCRIPTION:Please join us for this fundraising event to help support the arts and animals in need.\n\nStop by and enjoy the festivities that include:\n\n	\n		Holiday Gift Shop \n	\n		Opportunity to bid on decorated trees\, wreaths and baskets\n	\n		Pet adoption through Pup and Cat Co.\n	\n		Children and Pets can pose with Santa Claus for a photographic moment.\n\nWe look forward to seeing you there!
X-ALT-DESC;FMTTYPE=text/html:Please join us for this fundraising event to help support the arts and animals in need.<br />\nStop by and enjoy the festivities that include:\n<ul>\n	<li>\n		Holiday Gift Shop&nbsp\;</li>\n	<li>\n		Opportunity to bid on decorated trees\, wreaths and baskets</li>\n	<li>\n		Pet adoption through Pup and Cat Co.</li>\n	<li>\n		Children and Pets can pose with Santa Claus for a photographic moment.</li>\n</ul>\nWe look forward to seeing you there!
LOCATION:Georgia Piedmont Arts Center\, 1396 3rd Avenue\, Auburn\, GA 30011
UID:e.363.5166
SEQUENCE:3
DTSTAMP:20260424T081301Z
URL:https://barrowcm.365dtm.com/events/details/holiday-extravaganza-12-07-2013-5166
END:VEVENT

END:VCALENDAR
