BEGIN:VCALENDAR
VERSION:2.0
PRODID:-//ChamberMaster//Event Calendar 2.0//EN
METHOD:PUBLISH
X-PUBLISHED-TTL:P3D
REFRESH-INTERVAL:P3D
CALSCALE:GREGORIAN
BEGIN:VEVENT
DTSTART:20141204T160000Z
DTEND:20141205T013000Z
X-MICROSOFT-CDO-ALLDAYEVENT:FALSE
SUMMARY:Holiday Luncheon for the Public and Corporate Holiday Dinner
DESCRIPTION:Holiday Luncheon for the Public\n\n11:00am   1:30pm\n\nThis annual Carl House event is perfect for organizations that want to thank their employees with a holiday luncheon or an opportunity for family and friends to come together for a holiday celebration.\n\nEnjoy a delicious menu of holiday treats and the ambiance of Carl House during the Holidays! \n \n\n$26.50/person\n\nPlus tax and service charge.\n\nCall for more details. RSVP by November 28 at 4:00pm.  Call 770.586.0095\n\n \n\nCorporate Holiday Dinner\n\n6:30pm   8:30pm\n\nIdeal for small companies that want to have an affordable holiday celebration with their employees or colleagues. \n\n \n\nPurchase a private table for your company and enjoy an elegant chef prepared buffet along with the ambiance and decor of Carl House for the Holidays! \n \n\nTo reserve your company table or for more details contact Lisa Meznar 770.586.0095\n\n\nLimited time only! Table to 10 - $395.00\n\n  \n\n770.586.0095   \n\nVisit our website for more details - www.carlhouse.com
X-ALT-DESC;FMTTYPE=text/html:<span style="font-size:12px"><span style="font-family:arial\,helvetica\,sans-serif"><span style="font-size:14px"><strong><span style="color:windowtext">Holiday Luncheon for the Public</span></strong></span><br />\n<big><strong><span style="color:windowtext">11:00am &mdash\; 1:30pm</span></strong></big></span></span>\n\n<address><span style="font-size:12px"><span style="font-family:arial\,helvetica\,sans-serif"><big><span style="color:windowtext">This annual Carl House event is perfect for organizations that want to thank their employees with a holiday luncheon or an opportunity for family and friends to come together for a holiday celebration.<br />\nEnjoy a delicious menu of holiday treats and the ambiance of Carl House during the Holidays! </span></big></span></span></address>\n<span style="font-size:12px"><span style="font-family:arial\,helvetica\,sans-serif">&nbsp\;<br />\n<span style="color:windowtext"><strong>$26.50/person</strong><br />\nPlus tax and service charge.<br />\nCall for more details. RSVP by November 28 at 4:00pm.&nbsp\; Call 770.586.0095</span><br />\n&nbsp\;<br />\n<strong><span style="font-size:14px"><span style="color:windowtext">Corporate Holiday Dinner</span><br />\n<span style="color:windowtext">6:30pm &ndash\; 8:30pm</span></span></strong><br />\n<em><span style="color:windowtext">Ideal for small companies that want to have an affordable holiday celebration with their employees or colleagues. </span><br />\n&nbsp\;</em></span></span>\n\n<address><em><span style="font-size:12px"><span style="font-family:arial\,helvetica\,sans-serif"><span style="color:windowtext">Purchase a private table for your company and enjoy an elegant chef prepared buffet along with the ambiance and decor of Carl House for the Holidays! </span></span></span></em></address>\n<span style="font-size:12px"><span style="font-family:arial\,helvetica\,sans-serif">&nbsp\;</span></span>\n\n<address><span style="font-size:12px"><span style="font-family:arial\,helvetica\,sans-serif"><span style="color:windowtext">To reserve your company table or for more details contact Lisa Meznar 770.586.0095</span></span></span></address>\n<br />\n<span style="font-size:12px"><span style="font-family:arial\,helvetica\,sans-serif"><span style="font-size:16px"><strong><span style="color:windowtext">Limited time only! Table to 10 - $395.00</span></strong></span><br />\n&nbsp\;&nbsp\;<br />\n<span style="font-size:14px"><strong><span style="color:windowtext">770.586.0095&nbsp\;&nbsp\; </span></strong><br />\n<strong><span style="color:windowtext">Visit our website for more details -&nbsp\;</span></strong><strong><span style="color:windowtext">www.carlhouse.com&nbsp\;&nbsp\; &nbsp\;</span></strong></span></span></span>
LOCATION:Carl House - 1176 Atlanta Highway\, Auburn\, GA 30019
UID:e.363.5474
SEQUENCE:3
DTSTAMP:20260421T153918Z
URL:https://barrowcm.365dtm.com/events/details/holiday-luncheon-for-the-public-and-corporate-holiday-dinner-12-04-2014-5474
END:VEVENT

END:VCALENDAR
