BEGIN:VCALENDAR
VERSION:2.0
PRODID:-//ChamberMaster//Event Calendar 2.0//EN
METHOD:PUBLISH
X-PUBLISHED-TTL:P3D
REFRESH-INTERVAL:P3D
CALSCALE:GREGORIAN
BEGIN:VEVENT
DTSTART:20131116T150000Z
DTEND:20131116T190000Z
X-MICROSOFT-CDO-ALLDAYEVENT:FALSE
SUMMARY:Holiday Open House & 5th Anniversary Celebration
DESCRIPTION:Join us for great shopping\, special order opportunities\, door prizes\, and refreshments!
X-ALT-DESC;FMTTYPE=text/html:Join us for great shopping\, special order opportunities\, door prizes\, and refreshments!
LOCATION:
UID:e.363.5168
SEQUENCE:3
DTSTAMP:20260422T112200Z
URL:https://barrowcm.365dtm.com/events/details/holiday-open-house-5th-anniversary-celebration-11-16-2013-5168
END:VEVENT

END:VCALENDAR
