BEGIN:VCALENDAR
VERSION:2.0
PRODID:-//ChamberMaster//Event Calendar 2.0//EN
METHOD:PUBLISH
X-PUBLISHED-TTL:P3D
REFRESH-INTERVAL:P3D
CALSCALE:GREGORIAN
BEGIN:VEVENT
DTSTART:20140814T200000Z
DTEND:20140814T230000Z
X-MICROSOFT-CDO-ALLDAYEVENT:FALSE
SUMMARY:Home & Business Expo
DESCRIPTION:Home & Business Expo\n\n45 Venders will be displaying their products\n\nTaste of Winder also about 12 Restaurants
X-ALT-DESC;FMTTYPE=text/html:Home &amp\; Business Expo<br />\n45 Venders will be displaying their products<br />\nTaste of Winder also about 12 Restaurants<br />\n&nbsp\;
LOCATION:Barrow County Park and Rec Department 175 Second Street\, Winder
UID:e.363.5446
SEQUENCE:3
DTSTAMP:20260421T213443Z
URL:https://barrowcm.365dtm.com/events/details/home-business-expo-08-14-2014-5446
END:VEVENT

END:VCALENDAR
