BEGIN:VCALENDAR
VERSION:2.0
PRODID:-//ChamberMaster//Event Calendar 2.0//EN
METHOD:PUBLISH
X-PUBLISHED-TTL:P3D
REFRESH-INTERVAL:P3D
CALSCALE:GREGORIAN
BEGIN:VEVENT
DTSTART:20151112T133000Z
DTEND:20151112T150000Z
X-MICROSOFT-CDO-ALLDAYEVENT:FALSE
SUMMARY:HR Seminar
DESCRIPTION:HR Seminar\n\n13 Strategies to Improve your Safety Program
X-ALT-DESC;FMTTYPE=text/html:HR Seminar<br />\n13 Strategies to Improve your Safety Program
LOCATION:Lanier Tech
UID:e.363.5835
SEQUENCE:3
DTSTAMP:20260420T214741Z
URL:https://barrowcm.365dtm.com/events/details/hr-seminar-11-12-2015-5835
END:VEVENT

END:VCALENDAR
