BEGIN:VCALENDAR
VERSION:2.0
PRODID:-//ChamberMaster//Event Calendar 2.0//EN
METHOD:PUBLISH
X-PUBLISHED-TTL:P3D
REFRESH-INTERVAL:P3D
CALSCALE:GREGORIAN
BEGIN:VEVENT
DTSTART:20150709T123000Z
DTEND:20150709T140000Z
X-MICROSOFT-CDO-ALLDAYEVENT:FALSE
SUMMARY:HR Siminar -
DESCRIPTION:Emergency Action Plan Drafting Tips - How to Ensure Your Worksite is Compliant with OSHA's EAP standards
X-ALT-DESC;FMTTYPE=text/html:Emergency Action Plan Drafting Tips - How to Ensure Your Worksite is Compliant with OSHA&#39\;s EAP standards
LOCATION:Lanier Tech
UID:e.363.5792
SEQUENCE:3
DTSTAMP:20260421T043149Z
URL:https://barrowcm.365dtm.com/events/details/hr-siminar-07-09-2015-5792
END:VEVENT

END:VCALENDAR
