BEGIN:VCALENDAR
VERSION:2.0
PRODID:-//ChamberMaster//Event Calendar 2.0//EN
METHOD:PUBLISH
X-PUBLISHED-TTL:P3D
REFRESH-INTERVAL:P3D
CALSCALE:GREGORIAN
BEGIN:VEVENT
DTSTART:20150910T123000Z
DTEND:20150910T143000Z
X-MICROSOFT-CDO-ALLDAYEVENT:FALSE
SUMMARY:HR Siminar -
DESCRIPTION:HR Seminar -OSHA's New Recordkeeping Requirements
X-ALT-DESC;FMTTYPE=text/html:HR Seminar -OSHA&#39\;s New Recordkeeping Requirements
LOCATION:Lanier Tech
UID:e.363.5818
SEQUENCE:3
DTSTAMP:20260421T010657Z
URL:https://barrowcm.365dtm.com/events/details/hr-siminar-09-10-2015-5818
END:VEVENT

END:VCALENDAR
