BEGIN:VCALENDAR
VERSION:2.0
PRODID:-//ChamberMaster//Event Calendar 2.0//EN
METHOD:PUBLISH
X-PUBLISHED-TTL:P3D
REFRESH-INTERVAL:P3D
CALSCALE:GREGORIAN
BEGIN:VEVENT
DTSTART:20151008T123000Z
DTEND:20151008T143000Z
X-MICROSOFT-CDO-ALLDAYEVENT:FALSE
SUMMARY:HR Siminar -
DESCRIPTION:HR Seminar - I'm Sick and Tired: "Leave" Me Alone!
X-ALT-DESC;FMTTYPE=text/html:HR Seminar - I&#39\;m Sick and Tired: &quot\;Leave&quot\; Me Alone!
LOCATION:Lanier Tech
UID:e.363.5823
SEQUENCE:3
DTSTAMP:20260420T232518Z
URL:https://barrowcm.365dtm.com/events/details/hr-siminar-10-08-2015-5823
END:VEVENT

END:VCALENDAR
