BEGIN:VCALENDAR
VERSION:2.0
PRODID:-//ChamberMaster//Event Calendar 2.0//EN
METHOD:PUBLISH
X-PUBLISHED-TTL:P3D
REFRESH-INTERVAL:P3D
CALSCALE:GREGORIAN
BEGIN:VEVENT
DTSTART:20090401T153000Z
DTEND:20090401T170000Z
X-MICROSOFT-CDO-ALLDAYEVENT:FALSE
SUMMARY:Identity Theft Lunch & Learn
DESCRIPTION:Don't Let Identity Thieves Fool You!\nJoin The Peoples Bank and SAC Terry Sosebee with the Georgia Bureau of Investigation Identity Theft Unit to learn how you can do more to protect your identity. Free Admission. Complimentary Lunch. Door Prizes. SEATING IS LIMITED\, PLEASE RSVP BY March 27 to jnevins@tpbonline.com or 678.425.6755
X-ALT-DESC;FMTTYPE=text/html:Don't Let Identity Thieves Fool You!\nJoin The Peoples Bank and SAC Terry Sosebee with the Georgia Bureau of Investigation Identity Theft Unit to learn how you can do more to protect your identity. Free Admission. Complimentary Lunch. Door Prizes. SEATING IS LIMITED\, PLEASE RSVP BY March 27 to jnevins@tpbonline.com or 678.425.6755
LOCATION:The Betty Jo Maddox Community Room at 76 N. Broad in Winder (across from the Main Branch).
UID:e.363.2678
SEQUENCE:3
DTSTAMP:20260426T011421Z
URL:https://barrowcm.365dtm.com/events/details/identity-theft-lunch-learn-04-01-2009-2678
END:VEVENT

END:VCALENDAR
