BEGIN:VCALENDAR
VERSION:2.0
PRODID:-//ChamberMaster//Event Calendar 2.0//EN
METHOD:PUBLISH
X-PUBLISHED-TTL:P3D
REFRESH-INTERVAL:P3D
CALSCALE:GREGORIAN
BEGIN:VEVENT
DTSTART:20170621T200000Z
DTEND:20170621T230000Z
X-MICROSOFT-CDO-ALLDAYEVENT:FALSE
SUMMARY:JOB FAIR
DESCRIPTION:JOBFAIAR\n\nLanier Tech WInder Campus
X-ALT-DESC;FMTTYPE=text/html:JOBFAIAR<br />\nLanier Tech WInder Campus
LOCATION:Lanier Tech Winder Campus
UID:e.363.6945
SEQUENCE:3
DTSTAMP:20260419T181815Z
URL:https://barrowcm.365dtm.com/events/details/job-fair-6945
END:VEVENT

END:VCALENDAR
