BEGIN:VCALENDAR
VERSION:2.0
PRODID:-//ChamberMaster//Event Calendar 2.0//EN
METHOD:PUBLISH
X-PUBLISHED-TTL:P3D
REFRESH-INTERVAL:P3D
CALSCALE:GREGORIAN
BEGIN:VEVENT
DTSTART:20100818T153000Z
DTEND:20100818T170000Z
X-MICROSOFT-CDO-ALLDAYEVENT:FALSE
SUMMARY:Joint Women in Business
DESCRIPTION:Join the Women in Business Councils of\n\nAthens\, Barrow\, and Oconee County Chambers for\n\nthe first annual Tri County "Lynne Smith Luncheon."\n\nFeatured Speaker:\n\nApril Farlow\, Dale Carnegie Institute
X-ALT-DESC;FMTTYPE=text/html:Join the Women in Business Councils of\n<br>Athens\, Barrow\, and Oconee County Chambers for\n<br>the first annual Tri County "Lynne Smith Luncheon."\n<br>Featured Speaker:\n<br>April Farlow\, Dale Carnegie Institute\n<br>
LOCATION:The Georgia Club
UID:e.363.3572
SEQUENCE:3
DTSTAMP:20260425T001530Z
URL:https://barrowcm.365dtm.com/events/details/joint-women-in-business-08-18-2010-3572
END:VEVENT

END:VCALENDAR
