BEGIN:VCALENDAR
VERSION:2.0
PRODID:-//ChamberMaster//Event Calendar 2.0//EN
METHOD:PUBLISH
X-PUBLISHED-TTL:P3D
REFRESH-INTERVAL:P3D
CALSCALE:GREGORIAN
BEGIN:VEVENT
DTSTART;VALUE=DATE:20120908
DTEND;VALUE=DATE:20120909
TRANSP:TRANSPARENT
X-MICROSOFT-CDO-ALLDAYEVENT:TRUE
SUMMARY:Jug Tarvern
DESCRIPTION:Jug Tavern\n\nCity of Winder
X-ALT-DESC;FMTTYPE=text/html:Jug Tavern<br />\nCity of Winder
LOCATION:
UID:e.363.4247
SEQUENCE:3
DTSTAMP:20260423T113824Z
URL:https://barrowcm.365dtm.com/events/details/jug-tarvern-09-08-2012-4247
END:VEVENT

END:VCALENDAR
