BEGIN:VCALENDAR
VERSION:2.0
PRODID:-//ChamberMaster//Event Calendar 2.0//EN
METHOD:PUBLISH
X-PUBLISHED-TTL:P3D
REFRESH-INTERVAL:P3D
CALSCALE:GREGORIAN
BEGIN:VEVENT
DTSTART:20150911T140000Z
DTEND:20150913T033000Z
X-MICROSOFT-CDO-ALLDAYEVENT:FALSE
SUMMARY:Jug Tavern Festival
DESCRIPTION:The 2015 Jug Tavern Festival\n\nHeadline - Saturday\, September 12th @ 9:30 PM is Country Music Artist Craig Campbell! VIP Tickets Available!\n\nAlso performing 9/12: The Joe Hall Band\, Georgia Red Clay\, Mary Kate Farmer\, Drew Parker\, Samantha Stroh\, Flatline (CPR) and Omnipresent\n\n\n\nFriday night performances by Moby Dick and Fly Betty\n\n\n\nFIREWORKS\n\nCORNHOLE TOURNAMENTS\n\nCRAFT VENDORS\n\nBBQ\, FOOD AND BEVERAGE VENDORS\n\nKID'S ACTIVITIES...AND MORE!\n\n\n\nSPONSORED BY: ESG Operations\, Metro PCS\, Akins Ford\, Barrow Regional Medical Center\, Cardiovascular Group\, Dunkin Donuts\, Georgia Power\, Russell Stell Smith & Mattison\, Steve Kemble
X-ALT-DESC;FMTTYPE=text/html:The 2015 Jug Tavern Festival<br />\nHeadline - Saturday\, September 12th @ 9:30 PM is Country Music Artist Craig Campbell! VIP Tickets Available!<br />\nAlso performing 9/12: The Joe Hall Band\, Georgia Red Clay\, Mary Kate Farmer\, Drew Parker\, Samantha Stroh\, Flatline (CPR) and Omnipresent<br />\n<br />\nFriday night performances by Moby Dick and Fly Betty<br />\n<br />\nFIREWORKS<br />\nCORNHOLE TOURNAMENTS<br />\nCRAFT VENDORS<br />\nBBQ\, FOOD AND BEVERAGE VENDORS<br />\nKID&#39\;S ACTIVITIES...AND MORE!<br />\n<br />\nSPONSORED BY: ESG Operations\, Metro PCS\, Akins Ford\, Barrow Regional Medical Center\, Cardiovascular Group\, Dunkin Donuts\, Georgia Power\, Russell Stell Smith &amp\; Mattison\, Steve Kemble<br />\n&nbsp\;
LOCATION:Jug Tavern Park\, E. Athens Street
UID:e.363.5806
SEQUENCE:3
DTSTAMP:20260421T011222Z
URL:https://barrowcm.365dtm.com/events/details/jug-tavern-festival-09-11-2015-5806
END:VEVENT

END:VCALENDAR
