BEGIN:VCALENDAR
VERSION:2.0
PRODID:-//ChamberMaster//Event Calendar 2.0//EN
METHOD:PUBLISH
X-PUBLISHED-TTL:P3D
REFRESH-INTERVAL:P3D
CALSCALE:GREGORIAN
BEGIN:VEVENT
DTSTART:20140912T210000Z
DTEND:20140914T030000Z
X-MICROSOFT-CDO-ALLDAYEVENT:FALSE
SUMMARY:Jug Tavern Festival and BBQ Cook-Off
DESCRIPTION:The Jug Tavern Festival is an annual festival that includes the Winder 5K\, a car show\, a week-long carnival\, fireworks show\, live entertainment and the BBQ cook-off thoughout the weekend. The Jug Tavern Festival will also have a food vendors as well as many craft and specialty booths. \n\n\n\nThe Friday night headline is The Swingin' Medallions\n\n\n\nThe Saturday night headline is Bill Gentry\, with performances earlier in the evening by Joe Hall & the Bottom Line Band and The Daniel Lee Band\n\n\n\nTop "Blazin' Georgia BBQ" Sponsors: ESG Operations\, Akins Ford and Van Kirk Electric.
X-ALT-DESC;FMTTYPE=text/html:The Jug Tavern Festival is an annual festival that includes the Winder 5K\, a car show\, a week-long carnival\, fireworks show\, live entertainment and the BBQ cook-off thoughout the weekend. The Jug Tavern Festival will also have a food vendors as well as many craft and specialty booths.&nbsp\;<br />\n<br />\nThe Friday night headline is The Swingin&#39\; Medallions<br />\n<br />\nThe Saturday night headline is Bill Gentry\, with performances earlier in the evening by Joe Hall &amp\; the Bottom Line Band and The Daniel Lee Band<br />\n<br />\nTop &quot\;Blazin&#39\; Georgia BBQ&quot\; Sponsors: ESG Operations\, Akins Ford and Van Kirk Electric.&nbsp\;
LOCATION:Jug Tavern Park\, Athens Street\, Winder
UID:e.363.5444
SEQUENCE:3
DTSTAMP:20260421T202836Z
URL:https://barrowcm.365dtm.com/events/details/jug-tavern-festival-and-bbq-cook-off-09-12-2014-5444
END:VEVENT

END:VCALENDAR
