BEGIN:VCALENDAR
VERSION:2.0
PRODID:-//ChamberMaster//Event Calendar 2.0//EN
METHOD:PUBLISH
X-PUBLISHED-TTL:P3D
REFRESH-INTERVAL:P3D
CALSCALE:GREGORIAN
BEGIN:VEVENT
DTSTART:20110819T230000Z
DTEND:20110820T030000Z
X-MICROSOFT-CDO-ALLDAYEVENT:FALSE
SUMMARY:JUG TAVERN OPRY NIGHT
DESCRIPTION:Winder now has it's own "Grand Ole Opry" style event.  The first Jug Tavern Opry Night will take place Friday\, August 19th at 7pm at American Legion Post #53 in Winder.  Performances will include The Opry Band and others.  Auditions are open to country bands and singers. Call (770) 586-5147 for details and to schedule an audition.OPEN TO THE PUBLIC!
X-ALT-DESC;FMTTYPE=text/html:Winder now has it&#39\;s own &quot\;Grand Ole Opry&quot\; style event.&nbsp\; The first Jug Tavern Opry Night will take place Friday\, August 19th at 7pm at American Legion Post #53 in Winder.&nbsp\; Performances will include The Opry Band and others.&nbsp\; Auditions are open to country bands and singers. Call (770) 586-5147 for details and to schedule an audition.OPEN TO THE PUBLIC!
LOCATION:American Legion Post #53
UID:e.363.4069
SEQUENCE:3
DTSTAMP:20260424T064804Z
URL:https://barrowcm.365dtm.com/events/details/jug-tavern-opry-night-08-19-2011-4069
END:VEVENT

END:VCALENDAR
