BEGIN:VCALENDAR
VERSION:2.0
PRODID:-//ChamberMaster//Event Calendar 2.0//EN
METHOD:PUBLISH
X-PUBLISHED-TTL:P3D
REFRESH-INTERVAL:P3D
CALSCALE:GREGORIAN
BEGIN:VEVENT
DTSTART:20090704T190000Z
DTEND:20090705T020000Z
X-MICROSOFT-CDO-ALLDAYEVENT:FALSE
SUMMARY:July 4th Festival & Fireworks
DESCRIPTION:July 4th Festival & Fireworks.\nFestival begins at 3:00 p.m. with vendors of all types\, children's activites\, live entertainment and ending with Fireworks!
X-ALT-DESC;FMTTYPE=text/html:July 4th Festival & Fireworks.\nFestival begins at 3:00 p.m. with vendors of all types\, children's activites\, live entertainment and ending with Fireworks!
LOCATION:Downtown Auburn\, Georgia
UID:e.363.2674
SEQUENCE:3
DTSTAMP:20260425T202349Z
URL:https://barrowcm.365dtm.com/events/details/july-4th-festival-fireworks-07-04-2009-2674
END:VEVENT

END:VCALENDAR
