BEGIN:VCALENDAR
VERSION:2.0
PRODID:-//ChamberMaster//Event Calendar 2.0//EN
METHOD:PUBLISH
X-PUBLISHED-TTL:P3D
REFRESH-INTERVAL:P3D
CALSCALE:GREGORIAN
BEGIN:VEVENT
DTSTART;VALUE=DATE:20110905
DTEND;VALUE=DATE:20110906
TRANSP:TRANSPARENT
X-MICROSOFT-CDO-ALLDAYEVENT:TRUE
SUMMARY:Labor Day - Office will be closed
DESCRIPTION:
X-ALT-DESC;FMTTYPE=text/html:
LOCATION:
UID:e.363.4067
SEQUENCE:3
DTSTAMP:20260424T053902Z
URL:https://barrowcm.365dtm.com/events/details/labor-day-office-will-be-closed-09-05-2011-4067
END:VEVENT

END:VCALENDAR
