BEGIN:VCALENDAR
VERSION:2.0
PRODID:-//ChamberMaster//Event Calendar 2.0//EN
METHOD:PUBLISH
X-PUBLISHED-TTL:P3D
REFRESH-INTERVAL:P3D
CALSCALE:GREGORIAN
BEGIN:VEVENT
DTSTART:20090413T223000Z
DTEND:20090413T233000Z
X-MICROSOFT-CDO-ALLDAYEVENT:FALSE
SUMMARY:Ladies' Night - Safe and Healthy Weight Loss/Weight Management Solutions
DESCRIPTION:For Ladies Only:  If you are a lady between the ages of 25 and 65 who continually suffers through weight loss & weight management challenges\, then this is for you!  Learn about safe and healthy weight loss/weight management and a unique solution that could change your life.
X-ALT-DESC;FMTTYPE=text/html:For Ladies Only:  If you are a lady between the ages of 25 and 65 who continually suffers through weight loss & weight management challenges\, then this is for you!  Learn about safe and healthy weight loss/weight management and a unique solution that could change your life.
LOCATION:Winder Public Library
UID:e.363.2676
SEQUENCE:3
DTSTAMP:20260426T012301Z
URL:https://barrowcm.365dtm.com/events/details/ladies-night-safe-and-healthy-weight-loss-weight-management-solutions-04-13-2009-2676
END:VEVENT

END:VCALENDAR
