BEGIN:VCALENDAR
VERSION:2.0
PRODID:-//ChamberMaster//Event Calendar 2.0//EN
METHOD:PUBLISH
X-PUBLISHED-TTL:P3D
REFRESH-INTERVAL:P3D
CALSCALE:GREGORIAN
BEGIN:VEVENT
DTSTART;VALUE=DATE:20151112
DTEND;VALUE=DATE:20151113
TRANSP:TRANSPARENT
X-MICROSOFT-CDO-ALLDAYEVENT:TRUE
SUMMARY:Leadership Barrow
DESCRIPTION:Click here to edit...
X-ALT-DESC;FMTTYPE=text/html:<div style="color: gray\;">Click here to edit...</div>
LOCATION:Click here to edit...
UID:e.363.5837
SEQUENCE:3
DTSTAMP:20260420T214816Z
URL:https://barrowcm.365dtm.com/events/details/leadership-barrow-11-12-2015-5837
END:VEVENT

END:VCALENDAR
