BEGIN:VCALENDAR
VERSION:2.0
PRODID:-//ChamberMaster//Event Calendar 2.0//EN
METHOD:PUBLISH
X-PUBLISHED-TTL:P3D
REFRESH-INTERVAL:P3D
CALSCALE:GREGORIAN
BEGIN:VEVENT
DTSTART:20140513T223000Z
DTEND:20140514T010000Z
X-MICROSOFT-CDO-ALLDAYEVENT:FALSE
SUMMARY:Leadership Barrow Graduation
DESCRIPTION:Class of 2014 Leadership Barrow Graduation
X-ALT-DESC;FMTTYPE=text/html:Class of 2014 Leadership Barrow Graduation
LOCATION:Constance Manor
UID:e.363.5421
SEQUENCE:3
DTSTAMP:20260422T021002Z
URL:https://barrowcm.365dtm.com/events/details/leadership-barrow-graduation-05-13-2014-5421
END:VEVENT

END:VCALENDAR
