BEGIN:VCALENDAR
VERSION:2.0
PRODID:-//ChamberMaster//Event Calendar 2.0//EN
METHOD:PUBLISH
X-PUBLISHED-TTL:P3D
REFRESH-INTERVAL:P3D
CALSCALE:GREGORIAN
BEGIN:VEVENT
DTSTART;VALUE=DATE:20160914
DTEND;VALUE=DATE:20160915
TRANSP:TRANSPARENT
X-MICROSOFT-CDO-ALLDAYEVENT:TRUE
SUMMARY:Leadeship Barrow
DESCRIPTION:Leadership Barrow
X-ALT-DESC;FMTTYPE=text/html:Leadership Barrow
LOCATION:
UID:e.363.5892
SEQUENCE:3
DTSTAMP:20260420T063959Z
URL:https://barrowcm.365dtm.com/events/details/leadeship-barrow-09-14-2016-5892
END:VEVENT

END:VCALENDAR
