BEGIN:VCALENDAR
VERSION:2.0
PRODID:-//ChamberMaster//Event Calendar 2.0//EN
METHOD:PUBLISH
X-PUBLISHED-TTL:P3D
REFRESH-INTERVAL:P3D
CALSCALE:GREGORIAN
BEGIN:VEVENT
DTSTART:20140827T130000Z
DTEND:20140827T153000Z
X-MICROSOFT-CDO-ALLDAYEVENT:FALSE
SUMMARY:Live Guided Demonstrations: Basics to Social Media: Why use it
DESCRIPTION:Constant Contact Live Guided Demonstrations:\n\nBasics of Social Media:  Why Use it\, Which Channels\, and What to Say
X-ALT-DESC;FMTTYPE=text/html:Constant Contact Live Guided Demonstrations:<br />\nBasics of Social Media:&nbsp\; Why Use it\, Which Channels\, and What to Say
LOCATION:Chamber Office 9:00 am - 11:30 am
UID:e.363.5448
SEQUENCE:3
DTSTAMP:20260421T214712Z
URL:https://barrowcm.365dtm.com/events/details/live-guided-demonstrations-basics-to-social-media-why-use-it-08-27-2014-5448
END:VEVENT

END:VCALENDAR
